BEGIN:VCALENDAR
VERSION:2.0
PRODID:-//Michigan Clean Cities - ECPv6.15.20//NONSGML v1.0//EN
CALSCALE:GREGORIAN
METHOD:PUBLISH
X-WR-CALNAME:Michigan Clean Cities
X-ORIGINAL-URL:https://www.michigancleancities.org
X-WR-CALDESC:Events for Michigan Clean Cities
REFRESH-INTERVAL;VALUE=DURATION:PT1H
X-Robots-Tag:noindex
X-PUBLISHED-TTL:PT1H
BEGIN:VTIMEZONE
TZID:America/Detroit
BEGIN:DAYLIGHT
TZOFFSETFROM:-0500
TZOFFSETTO:-0400
TZNAME:EDT
DTSTART:20230312T070000
END:DAYLIGHT
BEGIN:STANDARD
TZOFFSETFROM:-0400
TZOFFSETTO:-0500
TZNAME:EST
DTSTART:20231105T060000
END:STANDARD
BEGIN:DAYLIGHT
TZOFFSETFROM:-0500
TZOFFSETTO:-0400
TZNAME:EDT
DTSTART:20240310T070000
END:DAYLIGHT
BEGIN:STANDARD
TZOFFSETFROM:-0400
TZOFFSETTO:-0500
TZNAME:EST
DTSTART:20241103T060000
END:STANDARD
BEGIN:DAYLIGHT
TZOFFSETFROM:-0500
TZOFFSETTO:-0400
TZNAME:EDT
DTSTART:20250309T070000
END:DAYLIGHT
BEGIN:STANDARD
TZOFFSETFROM:-0400
TZOFFSETTO:-0500
TZNAME:EST
DTSTART:20251102T060000
END:STANDARD
BEGIN:DAYLIGHT
TZOFFSETFROM:-0500
TZOFFSETTO:-0400
TZNAME:EDT
DTSTART:20260308T070000
END:DAYLIGHT
BEGIN:STANDARD
TZOFFSETFROM:-0400
TZOFFSETTO:-0500
TZNAME:EST
DTSTART:20261101T060000
END:STANDARD
END:VTIMEZONE
BEGIN:VEVENT
DTSTART;TZID=America/Detroit:20240611T080000
DTEND;TZID=America/Detroit:20240613T170000
DTSTAMP:20260423T053937
CREATED:20240531T220556Z
LAST-MODIFIED:20240531T220556Z
UID:29658-1718092800-1718298000@www.michigancleancities.org
SUMMARY:BAE & Eaton Class 7 EV Truck Ride and Drive
DESCRIPTION:
URL:https://www.michigancleancities.org/event/bae-eaton-class-7-ev-truck-ride-and-drive/
CATEGORIES:Community Event
END:VEVENT
BEGIN:VEVENT
DTSTART;TZID=America/Detroit:20240612T090000
DTEND;TZID=America/Detroit:20240612T100000
DTSTAMP:20260423T053937
CREATED:20240531T220552Z
LAST-MODIFIED:20240531T220552Z
UID:29661-1718182800-1718186400@www.michigancleancities.org
SUMMARY:MI Clean School Bus Energy Grant Webinar for Potential Applicants
DESCRIPTION:
URL:https://www.michigancleancities.org/event/mi-clean-school-bus-energy-grant-webinar-for-potential-applicants/
CATEGORIES:Community Event
END:VEVENT
BEGIN:VEVENT
DTSTART;TZID=America/Detroit:20240626T080000
DTEND;TZID=America/Detroit:20240626T170000
DTSTAMP:20260423T053937
CREATED:20240531T220552Z
LAST-MODIFIED:20240531T220552Z
UID:29662-1719388800-1719421200@www.michigancleancities.org
SUMMARY:Demonstration Day – Autonomous Movement Initiative Grantees (Save the Date)
DESCRIPTION:
URL:https://www.michigancleancities.org/event/demonstration-day-autonomous-movement-initiative-grantees-save-the-date/
CATEGORIES:Community Event
END:VEVENT
BEGIN:VEVENT
DTSTART;TZID=America/Detroit:20240829T080000
DTEND;TZID=America/Detroit:20240829T170000
DTSTAMP:20260423T053937
CREATED:20240824T110015Z
LAST-MODIFIED:20240824T130403Z
UID:29692-1724918400-1724950800@www.michigancleancities.org
SUMMARY:Biodiesel on the Riverwalk – Port and Goods Movement
DESCRIPTION:
URL:https://www.michigancleancities.org/event/biodiesel-on-the-riverwalk-port-and-goods-movement/
CATEGORIES:Community Event
END:VEVENT
BEGIN:VEVENT
DTSTART;TZID=America/Detroit:20240924T080000
DTEND;TZID=America/Detroit:20240926T170000
DTSTAMP:20260423T053937
CREATED:20240531T220546Z
LAST-MODIFIED:20240824T130424Z
UID:29663-1727164800-1727370000@www.michigancleancities.org
SUMMARY:Forth EV Roadmap Conference
DESCRIPTION:use code MICC75
URL:https://www.michigancleancities.org/event/forth-ev-roadmap-conference/
CATEGORIES:Community Event
END:VEVENT
BEGIN:VEVENT
DTSTART;TZID=America/Detroit:20241003T080000
DTEND;TZID=America/Detroit:20241204T170000
DTSTAMP:20260423T053937
CREATED:20240824T110042Z
LAST-MODIFIED:20240824T130415Z
UID:29695-1727942400-1733331600@www.michigancleancities.org
SUMMARY:Michigan Sustainability Conference
DESCRIPTION:
URL:https://www.michigancleancities.org/event/michigan-sustainability-conference/
CATEGORIES:Community Event
END:VEVENT
BEGIN:VEVENT
DTSTART;TZID=America/Detroit:20250120T080000
DTEND;TZID=America/Detroit:20250123T170000
DTSTAMP:20260423T053937
CREATED:20241217T134159Z
LAST-MODIFIED:20241217T134159Z
UID:29720-1737360000-1737651600@www.michigancleancities.org
SUMMARY:2025 Clean Fuels Conference
DESCRIPTION:
URL:https://www.michigancleancities.org/event/2025-clean-fuels-conference/
CATEGORIES:Community Event
END:VEVENT
BEGIN:VEVENT
DTSTART;TZID=America/Detroit:20250304T080000
DTEND;TZID=America/Detroit:20250307T170000
DTSTAMP:20260423T053937
CREATED:20241217T134238Z
LAST-MODIFIED:20241217T233330Z
UID:29723-1741075200-1741366800@www.michigancleancities.org
SUMMARY:Work Truck Week and Green Truck Summit
DESCRIPTION:
URL:https://www.michigancleancities.org/event/work-truck-week-and-green-truck-summit/
CATEGORIES:Community Event
END:VEVENT
BEGIN:VEVENT
DTSTART;TZID=America/Detroit:20250428T080000
DTEND;TZID=America/Detroit:20250501T170000
DTSTAMP:20260423T053937
CREATED:20241217T134220Z
LAST-MODIFIED:20241217T134220Z
UID:29722-1745827200-1746118800@www.michigancleancities.org
SUMMARY:Advanced Clean Transportation (ACT) Expo
DESCRIPTION:
URL:https://www.michigancleancities.org/event/advanced-clean-transportation-act-expo/
CATEGORIES:Community Event
END:VEVENT
END:VCALENDAR